BEGIN:VCALENDAR
VERSION:2.0
PRODID:-//wp-events-plugin.com//7.2.3.1//EN
TZID:Europe/Dublin
X-WR-TIMEZONE:Europe/Dublin
BEGIN:VEVENT
UID:21@ceithremaistri.ie
DTSTART;TZID=Europe/Dublin;VALUE=DATE:20260504
DTEND;TZID=Europe/Dublin;VALUE=DATE:20260505
DTSTAMP:20251009T185905Z
URL:https://ceithremaistri.ie/events/dunta-closed-bank-holiday-4/
SUMMARY:Dúnta / Closed (Bank Holiday)
DESCRIPTION:
CATEGORIES:Bank Holiday,Quarter 2
END:VEVENT
BEGIN:VTIMEZONE
TZID:Europe/Dublin
X-LIC-LOCATION:Europe/Dublin
BEGIN:STANDARD
DTSTART:20260329T020000
TZOFFSETFROM:+0000
TZOFFSETTO:+0100
TZNAME:IST
END:STANDARD
END:VTIMEZONE
END:VCALENDAR